BEGIN:VCALENDAR
PRODID:-//eluceo/ical//2.0/EN
VERSION:2.0
CALSCALE:GREGORIAN
BEGIN:VEVENT
UID:e2c446b71d89be3cf1731f456cf87113
DTSTAMP:20260421T095025Z
SUMMARY:test event
DESCRIPTION:test
URL:https://abbeville.rotaryd1520.org/fr/agenda/show/16716
DTSTART;TZID=Europe/Zurich:20190708T000000
DTEND;TZID=Europe/Zurich:20190708T000000
LOCATION:-
CATEGORIES:Rotary
END:VEVENT
BEGIN:VTIMEZONE
TZID:Europe/Zurich
BEGIN:DAYLIGHT
DTSTART:20190708T000000
TZNAME:CEST
TZOFFSETTO:+0200
TZOFFSETFROM:+0200
END:DAYLIGHT
END:VTIMEZONE
END:VCALENDAR
